BEGIN:VCALENDAR
VERSION:2.0
PRODID:-//Androscoggin Historical Society - ECPv6.15.17.1//NONSGML v1.0//EN
CALSCALE:GREGORIAN
METHOD:PUBLISH
X-ORIGINAL-URL:https://androhistory.org
X-WR-CALDESC:Events for Androscoggin Historical Society
REFRESH-INTERVAL;VALUE=DURATION:PT1H
X-Robots-Tag:noindex
X-PUBLISHED-TTL:PT1H
BEGIN:VTIMEZONE
TZID:America/New_York
BEGIN:DAYLIGHT
TZOFFSETFROM:-0500
TZOFFSETTO:-0400
TZNAME:EDT
DTSTART:20240310T070000
END:DAYLIGHT
BEGIN:STANDARD
TZOFFSETFROM:-0400
TZOFFSETTO:-0500
TZNAME:EST
DTSTART:20241103T060000
END:STANDARD
BEGIN:DAYLIGHT
TZOFFSETFROM:-0500
TZOFFSETTO:-0400
TZNAME:EDT
DTSTART:20250309T070000
END:DAYLIGHT
BEGIN:STANDARD
TZOFFSETFROM:-0400
TZOFFSETTO:-0500
TZNAME:EST
DTSTART:20251102T060000
END:STANDARD
BEGIN:DAYLIGHT
TZOFFSETFROM:-0500
TZOFFSETTO:-0400
TZNAME:EDT
DTSTART:20260308T070000
END:DAYLIGHT
BEGIN:STANDARD
TZOFFSETFROM:-0400
TZOFFSETTO:-0500
TZNAME:EST
DTSTART:20261101T060000
END:STANDARD
END:VTIMEZONE
BEGIN:VEVENT
DTSTART;TZID=America/New_York:20251206T090000
DTEND;TZID=America/New_York:20251206T170000
DTSTAMP:20260420T150617
CREATED:20251120T152143Z
LAST-MODIFIED:20251120T152449Z
UID:27397618-1765011600-1765040400@androhistory.org
SUMMARY:Holiday at the Plaza
DESCRIPTION:
URL:https://androhistory.org/event/holiday-at-the-plaza/
LOCATION:93 Lisbon St\, 93 Lisbon St\, Lewiston\, Maine\, 04240\, United States
ATTACH;FMTTYPE=image/jpeg:https://androhistory.org/wp-content/uploads/2025/11/Copy-of-Copy-of-Holiday-on-The-Plaza.jpg
END:VEVENT
BEGIN:VEVENT
DTSTART;TZID=America/New_York:20251206T110000
DTEND;TZID=America/New_York:20251206T123000
DTSTAMP:20260420T150617
CREATED:20251120T150438Z
LAST-MODIFIED:20251120T150438Z
UID:27397614-1765018800-1765024200@androhistory.org
SUMMARY:Family\, Land & Legacy
DESCRIPTION:This month’s topic is an Introduction to Lineage Societies with Susan Lamie.
URL:https://androhistory.org/event/family-land-legacy/
LOCATION:93 Lisbon St\, 93 Lisbon St\, Lewiston\, Maine\, 04240\, United States
ATTACH;FMTTYPE=image/jpeg:https://androhistory.org/wp-content/uploads/2025/09/First-Saturdays-Event-picture.jpg
END:VEVENT
END:VCALENDAR