BEGIN:VCALENDAR
VERSION:2.0
PRODID:-//Androscoggin Historical Society - ECPv6.15.17.1//NONSGML v1.0//EN
CALSCALE:GREGORIAN
METHOD:PUBLISH
X-ORIGINAL-URL:https://androhistory.org
X-WR-CALDESC:Events for Androscoggin Historical Society
REFRESH-INTERVAL;VALUE=DURATION:PT1H
X-Robots-Tag:noindex
X-PUBLISHED-TTL:PT1H
BEGIN:VTIMEZONE
TZID:America/New_York
BEGIN:DAYLIGHT
TZOFFSETFROM:-0500
TZOFFSETTO:-0400
TZNAME:EDT
DTSTART:20240310T070000
END:DAYLIGHT
BEGIN:STANDARD
TZOFFSETFROM:-0400
TZOFFSETTO:-0500
TZNAME:EST
DTSTART:20241103T060000
END:STANDARD
BEGIN:DAYLIGHT
TZOFFSETFROM:-0500
TZOFFSETTO:-0400
TZNAME:EDT
DTSTART:20250309T070000
END:DAYLIGHT
BEGIN:STANDARD
TZOFFSETFROM:-0400
TZOFFSETTO:-0500
TZNAME:EST
DTSTART:20251102T060000
END:STANDARD
BEGIN:DAYLIGHT
TZOFFSETFROM:-0500
TZOFFSETTO:-0400
TZNAME:EDT
DTSTART:20260308T070000
END:DAYLIGHT
BEGIN:STANDARD
TZOFFSETFROM:-0400
TZOFFSETTO:-0500
TZNAME:EST
DTSTART:20261101T060000
END:STANDARD
END:VTIMEZONE
BEGIN:VEVENT
DTSTART;TZID=America/New_York:20251004T110000
DTEND;TZID=America/New_York:20251004T123000
DTSTAMP:20260420T183253
CREATED:20250927T154744Z
LAST-MODIFIED:20250927T154822Z
UID:27397544-1759575600-1759581000@androhistory.org
SUMMARY:Families\, Land & Legacy
DESCRIPTION:This Month’s topic: Cemetery Records with Lin Wright
URL:https://androhistory.org/event/27397544/
LOCATION:93 Lisbon St\, 93 Lisbon St\, Lewiston\, Maine\, 04240\, United States
ATTACH;FMTTYPE=image/jpeg:https://androhistory.org/wp-content/uploads/2025/09/First-Saturdays-Event-cover.jpg
END:VEVENT
BEGIN:VEVENT
DTSTART;TZID=America/New_York:20251016T180000
DTEND;TZID=America/New_York:20251016T193000
DTSTAMP:20260420T183253
CREATED:20250610T205734Z
LAST-MODIFIED:20250727T202749Z
UID:27397240-1760637600-1760643000@androhistory.org
SUMMARY:Civil War Conversations - October
DESCRIPTION:Join the Androscoggin Historical Society for a discussion group about the Civil War Era in Androscoggin County.
URL:https://androhistory.org/event/civil-war-conversations-october/
LOCATION:93 Lisbon St\, 93 Lisbon St\, Lewiston\, Maine\, 04240\, United States
ATTACH;FMTTYPE=image/jpeg:https://androhistory.org/wp-content/uploads/2025/06/CivilWarConversations.jpg
END:VEVENT
BEGIN:VEVENT
DTSTART;TZID=America/New_York:20251026T140000
DTEND;TZID=America/New_York:20251026T150000
DTSTAMP:20260420T183253
CREATED:20250916T143433Z
LAST-MODIFIED:20250917T130846Z
UID:27397484-1761487200-1761490800@androhistory.org
SUMMARY:Songs of the Abolitionists
DESCRIPTION:Musician Katherine Rhoda shares her program\, Songs of the Abolitionist. \nkatherinerhoda.com/offerings/abolitionist-songs
URL:https://androhistory.org/event/27397484/
LOCATION:93 Lisbon St\, 93 Lisbon St\, Lewiston\, Maine\, 04240\, United States
ATTACH;FMTTYPE=image/jpeg:https://androhistory.org/wp-content/uploads/2025/09/Songs-of-the-Abolitionists-event-photo.jpg
END:VEVENT
END:VCALENDAR