BEGIN:VCALENDAR
VERSION:2.0
PRODID:-//Androscoggin Historical Society - ECPv6.15.17.1//NONSGML v1.0//EN
CALSCALE:GREGORIAN
METHOD:PUBLISH
X-ORIGINAL-URL:https://androhistory.org
X-WR-CALDESC:Events for Androscoggin Historical Society
REFRESH-INTERVAL;VALUE=DURATION:PT1H
X-Robots-Tag:noindex
X-PUBLISHED-TTL:PT1H
BEGIN:VTIMEZONE
TZID:America/New_York
BEGIN:DAYLIGHT
TZOFFSETFROM:-0500
TZOFFSETTO:-0400
TZNAME:EDT
DTSTART:20240310T070000
END:DAYLIGHT
BEGIN:STANDARD
TZOFFSETFROM:-0400
TZOFFSETTO:-0500
TZNAME:EST
DTSTART:20241103T060000
END:STANDARD
BEGIN:DAYLIGHT
TZOFFSETFROM:-0500
TZOFFSETTO:-0400
TZNAME:EDT
DTSTART:20250309T070000
END:DAYLIGHT
BEGIN:STANDARD
TZOFFSETFROM:-0400
TZOFFSETTO:-0500
TZNAME:EST
DTSTART:20251102T060000
END:STANDARD
BEGIN:DAYLIGHT
TZOFFSETFROM:-0500
TZOFFSETTO:-0400
TZNAME:EDT
DTSTART:20260308T070000
END:DAYLIGHT
BEGIN:STANDARD
TZOFFSETFROM:-0400
TZOFFSETTO:-0500
TZNAME:EST
DTSTART:20261101T060000
END:STANDARD
END:VTIMEZONE
BEGIN:VEVENT
DTSTART;VALUE=DATE:20250726
DTEND;VALUE=DATE:20250830
DTSTAMP:20260420T215042
CREATED:20250716T135259Z
LAST-MODIFIED:20250716T135259Z
UID:27397411-1753488000-1756511999@androhistory.org
SUMMARY:Practice Exhibit
DESCRIPTION:Here is information about this exhibit.
URL:https://androhistory.org/event/practice-exhibit/
LOCATION:Maine
ATTACH;FMTTYPE=image/jpeg:https://androhistory.org/wp-content/uploads/2025/07/Current-Exhibit.jpg
END:VEVENT
BEGIN:VEVENT
DTSTART;TZID=America/New_York:20250821T180000
DTEND;TZID=America/New_York:20250821T193000
DTSTAMP:20260420T215042
CREATED:20250610T205547Z
LAST-MODIFIED:20250727T202759Z
UID:27397236-1755799200-1755804600@androhistory.org
SUMMARY:Civil War Conversations - August
DESCRIPTION:Join the Androscoggin Historical Society for a discussion group about the Civil War Era in Androscoggin County.
URL:https://androhistory.org/event/civil-war-conversations-august/
LOCATION:93 Lisbon St\, 93 Lisbon St\, Lewiston\, Maine\, 04240\, United States
ATTACH;FMTTYPE=image/jpeg:https://androhistory.org/wp-content/uploads/2025/06/CivilWarConversations.jpg
END:VEVENT
END:VCALENDAR